BEGIN:VCALENDAR
VERSION:2.0
PRODID:-//eventon.com NONSGML v1.0//EN
BEGIN:VEVENT
UID:69ecb3910e83d
DTSTAMP:20260425T142905
DTSTART:20260424T103000Z
DTEND:20260424T150000Z
LOCATION:Hrad Devín 
SUMMARY:190. výročie výstupu štúrovcov na Devín
DESCRIPTION: 190. výročie výstupu štúrovcov na Devín
END:VEVENT
END:VCALENDAR